BEGIN:VCALENDAR
VERSION:2.0
PRODID:-//kulturalindonesia.id - ECPv6.2.8.1//NONSGML v1.0//EN
CALSCALE:GREGORIAN
METHOD:PUBLISH
X-WR-CALNAME:kulturalindonesia.id
X-ORIGINAL-URL:https://kulturalindonesia.id
X-WR-CALDESC:Events for kulturalindonesia.id
REFRESH-INTERVAL;VALUE=DURATION:PT1H
X-Robots-Tag:noindex
X-PUBLISHED-TTL:PT1H
BEGIN:VTIMEZONE
TZID:Asia/Krasnoyarsk
BEGIN:STANDARD
TZOFFSETFROM:+0700
TZOFFSETTO:+0700
TZNAME:+07
DTSTART:20220101T000000
END:STANDARD
END:VTIMEZONE
BEGIN:VEVENT
DTSTART;VALUE=DATE:20221111
DTEND;VALUE=DATE:20221114
DTSTAMP:20260420T071552
CREATED:20221103T015654Z
LAST-MODIFIED:20221103T015654Z
UID:2705-1668124800-1668383999@kulturalindonesia.id
SUMMARY:PAMERAN ILUSTRASI BUKU ANAK
DESCRIPTION:
URL:https://kulturalindonesia.id/event/pameran-ilustrasi-buku-anak/
LOCATION:Taman Ismail Marzuki\, jl. Cikini Raya\, Jakarta\, DKI Jakarta\, Indonesia
ATTACH;FMTTYPE=image/jpeg:https://kulturalindonesia.id/wp-content/uploads/2022/11/WhatsApp-Image-2022-11-02-at-07.22.33.jpg
END:VEVENT
BEGIN:VEVENT
DTSTART;VALUE=DATE:20221031
DTEND;VALUE=DATE:20221110
DTSTAMP:20260420T071552
CREATED:20221103T021227Z
LAST-MODIFIED:20221103T021227Z
UID:2719-1667174400-1668038399@kulturalindonesia.id
SUMMARY:UNDERSTANDING
DESCRIPTION:
URL:https://kulturalindonesia.id/event/understanding/
LOCATION:Sangkring Art Space\, Jl. Nitiprayan No.88\, RT.01/RW.20\, Sanggrahan\, Ngestiharjo\, Kec. Kasihan\, Kabupaten Bantul\, Daerah Istimewa Yogyakarta\, 55182\, Indonesia
ATTACH;FMTTYPE=image/jpeg:https://kulturalindonesia.id/wp-content/uploads/2022/11/joiji.jpg
END:VEVENT
BEGIN:VEVENT
DTSTART;TZID=Asia/Krasnoyarsk:20221029T130000
DTEND;TZID=Asia/Krasnoyarsk:20221029T180000
DTSTAMP:20260420T071552
CREATED:20221103T014833Z
LAST-MODIFIED:20221103T015230Z
UID:2701-1667048400-1667066400@kulturalindonesia.id
SUMMARY:I SEE MYSELF FLOATING
DESCRIPTION:
URL:https://kulturalindonesia.id/event/i-see-myself-floating/
LOCATION:Gajah Gallery\, Casa Domaine GF Retail 1/R/N\, Karet Tengsin\, Jakarta Pusat\, DKI Jakarta\, Indonesia
ATTACH;FMTTYPE=image/jpeg:https://kulturalindonesia.id/wp-content/uploads/2022/11/WhatsApp-Image-2022-11-.jpg
END:VEVENT
BEGIN:VEVENT
DTSTART;VALUE=DATE:20221022
DTEND;VALUE=DATE:20221212
DTSTAMP:20260420T071552
CREATED:20221103T020459Z
LAST-MODIFIED:20221103T020459Z
UID:2711-1666396800-1670803199@kulturalindonesia.id
SUMMARY:REMBERANCE OF BEING DAN SEJARAH YANG DITEMUKAN-CIPTAKAN
DESCRIPTION:
URL:https://kulturalindonesia.id/event/remberance-of-being-dan-sejarah-yang-ditemukan-ciptakan/
LOCATION:Srisasanti Gallery\, Jl. Tirtodipuran No.50\, Mantrijeron\, Kec. Mantrijeron\, Kota Yogyakarta\, Daerah Istimewa Yogyakarta 55143\, Yogyakarta\, Daerah Istimewa Yogyakarta\, Indonesia
ATTACH;FMTTYPE=image/jpeg:https://kulturalindonesia.id/wp-content/uploads/2022/11/WhatsApp-Image-2022-11-02-at-07.22.34.jpg
END:VEVENT
BEGIN:VEVENT
DTSTART;VALUE=DATE:20221022
DTEND;VALUE=DATE:20221212
DTSTAMP:20260420T071552
CREATED:20221103T012806Z
LAST-MODIFIED:20221103T012806Z
UID:2691-1666396800-1670803199@kulturalindonesia.id
SUMMARY:Kalender budaya November-Desember 2022
DESCRIPTION:
URL:https://kulturalindonesia.id/event/kalender-budaya-november-desember-2022/
LOCATION:Daerah Istimewa Yogyakarta
ATTACH;FMTTYPE=image/jpeg:https://kulturalindonesia.id/wp-content/uploads/2022/11/WhatsApp-Image-2022-11-02-at-07.20.29.jpg
END:VEVENT
BEGIN:VEVENT
DTSTART;VALUE=DATE:20221022
DTEND;VALUE=DATE:20221029
DTSTAMP:20260420T071552
CREATED:20221001T022642Z
LAST-MODIFIED:20221001T025900Z
UID:2559-1666396800-1667001599@kulturalindonesia.id
SUMMARY:INDONESIAN DANCE FESTIVAL 2022
DESCRIPTION:
URL:https://kulturalindonesia.id/event/indonesian-dance-festival-2022/
LOCATION:Gedung Teater Taman Ismail Marzuki – Jakarta\, Jl. Cikini Raya 73 Menteng\, Jakarta Pusat\, Jakarta\, DKI Jakarta\, Indonesia
ATTACH;FMTTYPE=image/jpeg:https://kulturalindonesia.id/wp-content/uploads/2022/10/WhatsApp-Image-2022-09-30-at-18.31.26.jpeg
END:VEVENT
BEGIN:VEVENT
DTSTART;TZID=Asia/Krasnoyarsk:20221009T090000
DTEND;TZID=Asia/Krasnoyarsk:20221009T130000
DTSTAMP:20260420T071552
CREATED:20221001T023341Z
LAST-MODIFIED:20221001T025700Z
UID:2566-1665306000-1665320400@kulturalindonesia.id
SUMMARY:Road to WORLD BALLET DAY
DESCRIPTION:
URL:https://kulturalindonesia.id/event/road-to-world-ballet-day/
LOCATION:Great Hall POS BLOC\, Jl. Pos No.2 - Pasar Baru\, Jakarta Pusat\, DKI Jakarta\, Indonesia
ATTACH;FMTTYPE=image/jpeg:https://kulturalindonesia.id/wp-content/uploads/2022/10/WhatsApp-Image-2022-09-30-at-18.31.39.jpeg
END:VEVENT
BEGIN:VEVENT
DTSTART;TZID=Asia/Krasnoyarsk:20221008T140000
DTEND;TZID=Asia/Krasnoyarsk:20221008T200000
DTSTAMP:20260420T071552
CREATED:20221001T022427Z
LAST-MODIFIED:20221001T025600Z
UID:2556-1665237600-1665259200@kulturalindonesia.id
SUMMARY:Opera Majapahit GAYATRI Sang Sri Rajapatni
DESCRIPTION:
URL:https://kulturalindonesia.id/event/opera-majapahit-gayatri-sang-sri-rajapatni/
LOCATION:Gedung Teater Taman Ismail Marzuki – Jakarta\, Jl. Cikini Raya 73 Menteng\, Jakarta Pusat\, Jakarta\, DKI Jakarta\, Indonesia
ATTACH;FMTTYPE=image/jpeg:https://kulturalindonesia.id/wp-content/uploads/2022/10/WhatsApp-Image-2022-09-30-at-18.31.12.jpeg
END:VEVENT
BEGIN:VEVENT
DTSTART;VALUE=DATE:20221007
DTEND;VALUE=DATE:20221108
DTSTAMP:20260420T071552
CREATED:20221001T023027Z
LAST-MODIFIED:20221001T025402Z
UID:2562-1665100800-1667865599@kulturalindonesia.id
SUMMARY:KOLO NGUNTAL BULAN Jejak Sesajen di atas Kertas
DESCRIPTION:
URL:https://kulturalindonesia.id/event/kolo-nguntal-bulan-jejak-sesajen-di-atas-kertas/
LOCATION:Galeri Kertas – Studio Hanafi\, Jl. Raya Parung Bingung gang Manggis No.72\, Depok\, Jakarta Barat\, 16434\, Indonesia
ATTACH;FMTTYPE=image/jpeg:https://kulturalindonesia.id/wp-content/uploads/2022/10/WhatsApp-Image-2022-09-30-at-18.31.34.jpeg
END:VEVENT
BEGIN:VEVENT
DTSTART;VALUE=DATE:20220930
DTEND;VALUE=DATE:20221031
DTSTAMP:20260420T071552
CREATED:20221001T021901Z
LAST-MODIFIED:20221001T024901Z
UID:2553-1664496000-1667174399@kulturalindonesia.id
SUMMARY:ATRAKSI TEATRIKAL
DESCRIPTION:
URL:https://kulturalindonesia.id/event/atraksi-teatrikal/
LOCATION:Museum Sejarah Jakarta\, Jl. Taman Fatahillah no.1\, Jakarta Barat\, Jakarta\, DKI Jakarta\, 11110
ATTACH;FMTTYPE=image/jpeg:https://kulturalindonesia.id/wp-content/uploads/2022/10/WhatsApp-Image-2022-09-30-at-18.31.03.jpeg
END:VEVENT
BEGIN:VEVENT
DTSTART;VALUE=DATE:20220930
DTEND;VALUE=DATE:20221108
DTSTAMP:20260420T071552
CREATED:20221001T021411Z
LAST-MODIFIED:20221001T025216Z
UID:2550-1664496000-1667865599@kulturalindonesia.id
SUMMARY:Kalender Budaya Oktober-November 2022
DESCRIPTION:
URL:https://kulturalindonesia.id/event/kalender-budaya-oktober-november/
LOCATION:Daerah Istimewa Yogyakarta
ATTACH;FMTTYPE=image/jpeg:https://kulturalindonesia.id/wp-content/uploads/2022/10/WhatsApp-Image-2022-09-30-at-18.30.52.jpeg
END:VEVENT
BEGIN:VEVENT
DTSTART;VALUE=DATE:20220910
DTEND;VALUE=DATE:20221114
DTSTAMP:20260420T071552
CREATED:20220905T041455Z
LAST-MODIFIED:20220905T041709Z
UID:2422-1662768000-1668383999@kulturalindonesia.id
SUMMARY:The VH AWARD - Organized by Hyundai Motor Group
DESCRIPTION:
URL:https://kulturalindonesia.id/event/the-vh-award-organized-by-hyundai-motor-group/
LOCATION:Museum Macan\, AKR Tower jl Perjuangan no 39 A\, Jakarta Selatan\, Indonesia
ATTACH;FMTTYPE=image/jpeg:https://kulturalindonesia.id/wp-content/uploads/2022/09/9.jpeg
END:VEVENT
BEGIN:VEVENT
DTSTART;VALUE=DATE:20220831
DTEND;VALUE=DATE:20221001
DTSTAMP:20260420T071552
CREATED:20220905T035332Z
LAST-MODIFIED:20220905T035332Z
UID:2406-1661904000-1664582399@kulturalindonesia.id
SUMMARY:Bunga Rampai
DESCRIPTION:Collection of Paintings from 16 Indonesian artists from 1987 – 2010
URL:https://kulturalindonesia.id/event/bunga-rampai/
LOCATION:Dia.lo.gue Artspace\, Jl. Kemang Sel. No.99A\, RT.1/RW.2\, Bangka\, Kec. Mampang Prapatan\, Jakarta Selatan\, Jakarta\, 12730\, Indonesia
ATTACH;FMTTYPE=image/jpeg:https://kulturalindonesia.id/wp-content/uploads/2022/09/5.jpeg
END:VEVENT
BEGIN:VEVENT
DTSTART;TZID=Asia/Krasnoyarsk:20220827T100000
DTEND;TZID=Asia/Krasnoyarsk:20220918T180000
DTSTAMP:20260420T071552
CREATED:20220905T040129Z
LAST-MODIFIED:20220905T040236Z
UID:2409-1661594400-1663524000@kulturalindonesia.id
SUMMARY:ERIZAL AS DAREK #1 : BENTANG ALAM
DESCRIPTION:
URL:https://kulturalindonesia.id/event/erizal-as-darek-1-bentang-alam/
LOCATION:Gajah Gallery Jakarta\, Casa Domaine\, GF Retail\, Jl. K.H. Mas Mansyur No.1\, RT.6/RW.8\, Karet Tengsin\, Jakarta Pusat\, DKI Jakarta\, 10250\, Indonesia
ATTACH;FMTTYPE=image/jpeg:https://kulturalindonesia.id/wp-content/uploads/2022/09/6.jpeg
END:VEVENT
BEGIN:VEVENT
DTSTART;VALUE=DATE:20220823
DTEND;VALUE=DATE:20220921
DTSTAMP:20260420T071552
CREATED:20220905T041043Z
LAST-MODIFIED:20220905T041043Z
UID:2418-1661212800-1663718399@kulturalindonesia.id
SUMMARY:Still Life - A Solo Exhibition by PETEK SUTRISNO
DESCRIPTION:
URL:https://kulturalindonesia.id/event/still-life-a-solo-exhibition-by-petek-sutrisno/
LOCATION:Artsphere\, Jl. Dharmawangsa VI Melawai Kebayoran Baru Jakarta Selatan DKI Jakarta\, RT.5/RW.1\, Pulo\, Kebayoran Baru\, Jakarta Selatan\, DKI Jakarta\, 12160\, Indonesia
ATTACH;FMTTYPE=image/jpeg:https://kulturalindonesia.id/wp-content/uploads/2022/09/8.jpeg
END:VEVENT
BEGIN:VEVENT
DTSTART;VALUE=DATE:20220811
DTEND;VALUE=DATE:20220911
DTSTAMP:20260420T071552
CREATED:20220905T034755Z
LAST-MODIFIED:20220905T034833Z
UID:2400-1660176000-1662854399@kulturalindonesia.id
SUMMARY:AKU DAN KAIN - THE AGE OF DIVERSITY
DESCRIPTION:
URL:https://kulturalindonesia.id/event/aku-dan-kain-the-age-of-diversity/
LOCATION:Museum Nasional Indonesia\, Jl. Medan Merdeka Barat No.12\, Gambir\, Kecamatan Gambir\, Jakarta\, DKI Jakarta\, 10110\, Indonesia
ATTACH;FMTTYPE=image/jpeg:https://kulturalindonesia.id/wp-content/uploads/2022/09/3.jpeg
END:VEVENT
BEGIN:VEVENT
DTSTART;TZID=Asia/Krasnoyarsk:20220806T160000
DTEND;TZID=Asia/Krasnoyarsk:20220906T200000
DTSTAMP:20260420T071552
CREATED:20220905T040704Z
LAST-MODIFIED:20220905T040858Z
UID:2411-1659801600-1662494400@kulturalindonesia.id
SUMMARY:OPENING OF NALURI- A SOLO EXHIBITION BY TUYULOVEME
DESCRIPTION:
URL:https://kulturalindonesia.id/event/opening-of-naluri-a-solo-exhibition-by-tuyuloveme/
LOCATION:D Gallerie\, Jl Barito 1 no 3\, Jakarta Selatan\, Indonesia
ATTACH;FMTTYPE=image/jpeg:https://kulturalindonesia.id/wp-content/uploads/2022/09/7.jpeg
END:VEVENT
BEGIN:VEVENT
DTSTART;VALUE=DATE:20220716
DTEND;VALUE=DATE:20220916
DTSTAMP:20260420T071552
CREATED:20220701T022027Z
LAST-MODIFIED:20220701T022027Z
UID:2168-1657929600-1663286399@kulturalindonesia.id
SUMMARY:REKAKARA PANGURIP GUMI
DESCRIPTION:
URL:https://kulturalindonesia.id/event/rekakara-pangurip-gumi/
LOCATION:Sangkring Art Space\, Jl. Nitiprayan No.88\, RT.01/RW.20\, Sanggrahan\, Ngestiharjo\, Kec. Kasihan\, Kabupaten Bantul\, Daerah Istimewa Yogyakarta\, 55182\, Indonesia
ATTACH;FMTTYPE=image/jpeg:https://kulturalindonesia.id/wp-content/uploads/2022/07/REKAKARA-PANGURIP-GUMI.jpeg
END:VEVENT
BEGIN:VEVENT
DTSTART;VALUE=DATE:20220709
DTEND;VALUE=DATE:20220905
DTSTAMP:20260420T071552
CREATED:20220701T021610Z
LAST-MODIFIED:20220701T022120Z
UID:2163-1657324800-1662335999@kulturalindonesia.id
SUMMARY:DOUBLE HORIZON
DESCRIPTION:Entang :”Karya seni yang saya buat mewakili sudut pandang ganda secara sadar dan tidak sadra yang berasal dari kehidupan saya yang tinggal di dua negara. Yang pada akhirnya mengharuskan saya melihat horizon ganda dalam hidup”
URL:https://kulturalindonesia.id/event/double-horizon/
LOCATION:Sriasanti Gallery\, Jl. Tirtodipuran No.50\, Mantrijeron\, Yogyakarta\, Daerah Istimewa Yogyakarta\, 55143\, Indonesia
ATTACH;FMTTYPE=image/jpeg:https://kulturalindonesia.id/wp-content/uploads/2022/07/Double-horizon.jpeg
END:VEVENT
BEGIN:VEVENT
DTSTART;TZID=Asia/Krasnoyarsk:20220706T110000
DTEND;TZID=Asia/Krasnoyarsk:20220905T170000
DTSTAMP:20260420T071552
CREATED:20220701T031428Z
LAST-MODIFIED:20220701T031428Z
UID:2183-1657105200-1662397200@kulturalindonesia.id
SUMMARY:YAA FLOW #7
DESCRIPTION:
URL:https://kulturalindonesia.id/event/yaa-flow-7/
LOCATION:Sangkring Art Space\, Jl. Nitiprayan No.88\, RT.01/RW.20\, Sanggrahan\, Ngestiharjo\, Kec. Kasihan\, Kabupaten Bantul\, Daerah Istimewa Yogyakarta\, 55182\, Indonesia
ATTACH;FMTTYPE=image/jpeg:https://kulturalindonesia.id/wp-content/uploads/2022/07/YAA-FLOW.jpeg
END:VEVENT
BEGIN:VEVENT
DTSTART;VALUE=DATE:20220706
DTEND;VALUE=DATE:20220916
DTSTAMP:20260420T071552
CREATED:20220701T025532Z
LAST-MODIFIED:20220701T025532Z
UID:2179-1657065600-1663286399@kulturalindonesia.id
SUMMARY:Pameran Seni Rupa Nyoman Erawan - REKAKARA PANGURIP GUMI
DESCRIPTION:
URL:https://kulturalindonesia.id/event/pameran-seni-rupa-nyoman-erawan-rekakara-pangurip-gumi/
LOCATION:Sangkring Art Space\, Jl. Nitiprayan No.88\, RT.01/RW.20\, Sanggrahan\, Ngestiharjo\, Kec. Kasihan\, Kabupaten Bantul\, Daerah Istimewa Yogyakarta\, 55182\, Indonesia
ATTACH;FMTTYPE=image/jpeg:https://kulturalindonesia.id/wp-content/uploads/2022/07/REKAKARA-PANGURIP-BUMI-THUMBNAIL.jpeg
END:VEVENT
BEGIN:VEVENT
DTSTART;VALUE=DATE:20220624
DTEND;VALUE=DATE:20220725
DTSTAMP:20260420T071552
CREATED:20220701T023008Z
LAST-MODIFIED:20220701T023115Z
UID:2171-1656028800-1658707199@kulturalindonesia.id
SUMMARY:ONDEL ONDEL\, YANG RURAL DAN YANG URBAN
DESCRIPTION:
URL:https://kulturalindonesia.id/event/ondel-ondel-yang-rural-dan-yang-urban/
LOCATION:Galeri Kertas\, Studio Hanafi\, JQ58+XPC\, Rangkapan Jaya Baru\, Pancoran Mas\, Depok\, Jawa Barat\, 16434\, Indonesia
ATTACH;FMTTYPE=image/jpeg:https://kulturalindonesia.id/wp-content/uploads/2022/07/ONDEL-ONDEL-YANG-RURAL-DAN-YANG-URBAN.jpeg
END:VEVENT
BEGIN:VEVENT
DTSTART;VALUE=DATE:20220618
DTEND;VALUE=DATE:20220719
DTSTAMP:20260420T071552
CREATED:20220629T035259Z
LAST-MODIFIED:20220629T035259Z
UID:2159-1655510400-1658188799@kulturalindonesia.id
SUMMARY:CIPTA ! KAPITA SELEKTA CIKINI RAYA 73
DESCRIPTION:
URL:https://kulturalindonesia.id/event/cipta-kapita-selekta-cikini-raya-73/
LOCATION:Dewan Kesenian Jakarta\, Parking lot\, Jl. Cikini Raya No.73\, RW.2\, Cikini\, Kec. Menteng\, Jakarta Pusat\, DKI Jakarta\, 10330\, Indonesia
ATTACH;FMTTYPE=image/jpeg:https://kulturalindonesia.id/wp-content/uploads/2022/06/Cipta.jpeg
END:VEVENT
BEGIN:VEVENT
DTSTART;VALUE=DATE:20220610
DTEND;VALUE=DATE:20220901
DTSTAMP:20260420T071552
CREATED:20220629T033737Z
LAST-MODIFIED:20220629T033853Z
UID:2151-1654819200-1661990399@kulturalindonesia.id
SUMMARY:Online - Art Moments Jakarta di Museum 1
DESCRIPTION:
URL:https://kulturalindonesia.id/event/online-art-moments-jakarta-di-museum-1/
LOCATION:Museum 1\, Jl. Rajawali Selatan Raya No. 3 Kemayoran Jakarta\, Jakarta Selatan\, DKI Jakarta\, Indonesia
ATTACH;FMTTYPE=image/jpeg:https://kulturalindonesia.id/wp-content/uploads/2022/06/Art-Moment-Jakarta-Rjawali-1.jpeg
END:VEVENT
BEGIN:VEVENT
DTSTART;VALUE=DATE:20220610
DTEND;VALUE=DATE:20220901
DTSTAMP:20260420T071552
CREATED:20220629T032438Z
LAST-MODIFIED:20220629T032438Z
UID:2147-1654819200-1661990399@kulturalindonesia.id
SUMMARY:ONLINE - ART MOMENT JAKARTA
DESCRIPTION:
URL:https://kulturalindonesia.id/event/online-art-moment-jakarta/
LOCATION:Artsphere\, Jl. Dharmawangsa VI Melawai Kebayoran Baru Jakarta Selatan DKI Jakarta\, RT.5/RW.1\, Pulo\, Kebayoran Baru\, Jakarta Selatan\, DKI Jakarta\, 12160\, Indonesia
ATTACH;FMTTYPE=image/jpeg:https://kulturalindonesia.id/wp-content/uploads/2022/06/ONLINE-ART-MOMENT-JAKARTA.jpeg
ORGANIZER;CN="Maya Sujatmiko":MAILTO:mayasujatmiko@gmail.com
END:VEVENT
BEGIN:VEVENT
DTSTART;VALUE=DATE:20220610
DTEND;VALUE=DATE:20220906
DTSTAMP:20260420T071552
CREATED:20220629T030627Z
LAST-MODIFIED:20220629T030627Z
UID:2142-1654819200-1662422399@kulturalindonesia.id
SUMMARY:Kalender Budaya Bulan Juni - September 2022
DESCRIPTION:
URL:https://kulturalindonesia.id/event/kalender-budaya-bulan-juni-september-2022/
LOCATION:Daerah Istimewa Yogyakarta
ATTACH;FMTTYPE=image/jpeg:https://kulturalindonesia.id/wp-content/uploads/2022/06/2schedule.jpeg
END:VEVENT
BEGIN:VEVENT
DTSTART;VALUE=DATE:20220604
DTEND;VALUE=DATE:20221016
DTSTAMP:20260420T071552
CREATED:20220701T024135Z
LAST-MODIFIED:20220701T024135Z
UID:2176-1654300800-1665878399@kulturalindonesia.id
SUMMARY:THEATER OF ME
DESCRIPTION:
URL:https://kulturalindonesia.id/event/theater-of-me/
LOCATION:Museum Macan\, AKR Tower jl Perjuangan no 39 A\, Jakarta Selatan\, Indonesia
ATTACH;FMTTYPE=image/jpeg:https://kulturalindonesia.id/wp-content/uploads/2022/07/THEATRE-OF-ME.jpeg
END:VEVENT
BEGIN:VEVENT
DTSTART;VALUE=DATE:20220531
DTEND;VALUE=DATE:20220602
DTSTAMP:20260420T071552
CREATED:20220602T032919Z
LAST-MODIFIED:20220602T032919Z
UID:1887-1654038000-1654124399@kulturalindonesia.id
SUMMARY:FREE YOUR MIND
DESCRIPTION:
URL:https://kulturalindonesia.id/event/free-your-mind/
LOCATION:Komaneka FineArt Gallery Ubud – Bali\, Jl. Monkey Forest\, Ubud\, Kecamatan Ubud\, Kabupaten Gianyar\, Bali\, 80571\, Indonesia
ATTACH;FMTTYPE=image/jpeg:https://kulturalindonesia.id/wp-content/uploads/2022/06/Free-Your-Mind.jpeg
END:VEVENT
BEGIN:VEVENT
DTSTART;TZID=Asia/Krasnoyarsk:20220521T140000
DTEND;TZID=Asia/Krasnoyarsk:20220621T190000
DTSTAMP:20260420T071552
CREATED:20220602T035905Z
LAST-MODIFIED:20220602T035905Z
UID:1899-1653141600-1655838000@kulturalindonesia.id
SUMMARY:TACIT
DESCRIPTION:
URL:https://kulturalindonesia.id/event/tacit/
LOCATION:Artsphere\, Jl. Dharmawangsa VI Melawai Kebayoran Baru Jakarta Selatan DKI Jakarta\, RT.5/RW.1\, Pulo\, Kebayoran Baru\, Jakarta Selatan\, DKI Jakarta\, 12160\, Indonesia
ATTACH;FMTTYPE=image/jpeg:https://kulturalindonesia.id/wp-content/uploads/2022/06/TACIT.jpeg
END:VEVENT
BEGIN:VEVENT
DTSTART;VALUE=DATE:20220520
DTEND;VALUE=DATE:20220608
DTSTAMP:20260420T071552
CREATED:20220602T034401Z
LAST-MODIFIED:20220602T035028Z
UID:1890-1653004800-1654646399@kulturalindonesia.id
SUMMARY:Poem\, Meditation & Transience
DESCRIPTION:https://kulturalindonesia.id/wp-content/uploads/2022/06/Poem-Meditation-Trascience-Dia-lo-gue-Artspace.mp4\n@dialogue_arts presents: Poem\, Meditation & Transience. \nSeniman:\nBunga Yuridespita\nElla Wijt\nSindy Ponto \nKurator:\nR.E. Hartanto \nPameran ini menampilkan karya-karya terbaru Ella Wijt\, Bunga Yuridespita\, dan Ponto Sindy. Dalam pameran ini ketiganya merenungkan kembali permasalahan ruang isi dan ruang kosong\, juga ruang fisik dan ruang batin\, dimulai dari lingkungan tempat mereka tinggal dan berkarya pascapandemi. \nElla membuat puisi yang intim tentang hari-hari yang ia lalui di pedataran luas di antara kolam\, ilalang\, dan bebungaan—di atas kanvas mentah tak berlabur. Bunga menggunakan cermin dan cerminan dalam ruang instalasi untuk menyusun blok bangunan yang pada akhirnya ia sembunyikan di balik bidang kosong serupa tembok yang bertekstur. Sindy mengamati formasi\, pertumbuhan\, dan keterkaitan pohon-pohon. Bentuk-bentuk dalam karya Sindy terlihat familiar sekaligus asing\, muncul dan hilang pada saat yang bersamaan. \nKarya-karya dalam pameran ini menggunakan ruang sebagai cermin untuk melihat kondisi manusia\, baik diri sendiri\, orang terdekat\, maupun umat manusia secara luas. Ella\, Bunga\, dan Sindy menafsirkan gagasan artistik mereka tentang ruang dan kekosongan menjadi puisi\, meditasi\, dan kesementaraan. \nopening exhibition:\nFriday\, 20 May 2022\, 4.30 pm\nDia.Lo.Gue artspace\nkemang selatan 99a\njakarta 12730. \nofficiated by\nWindi Salomo\, Gallerist – SAL Project \n–\nexhibition period:\n20 May – 20 June 2022 \nSupported by:\n@manualjakarta @indoartnow @snc.edited @whiteboardjournal \n#PoemMeditationTransience #Exhibition #DiaLoGue #BungaYuridespita #EllaWijt #SindyPonto
URL:https://kulturalindonesia.id/event/poem-meditation-transience/
LOCATION:Dia.lo.gue Artspace\, Jl. Kemang Sel. No.99A\, RT.1/RW.2\, Bangka\, Kec. Mampang Prapatan\, Jakarta Selatan\, Jakarta\, 12730\, Indonesia
END:VEVENT
END:VCALENDAR