BEGIN:VCALENDAR
VERSION:2.0
PRODID:-//kulturalindonesia.id - ECPv6.2.8.1//NONSGML v1.0//EN
CALSCALE:GREGORIAN
METHOD:PUBLISH
X-WR-CALNAME:kulturalindonesia.id
X-ORIGINAL-URL:https://kulturalindonesia.id
X-WR-CALDESC:Events for kulturalindonesia.id
REFRESH-INTERVAL;VALUE=DURATION:PT1H
X-Robots-Tag:noindex
X-PUBLISHED-TTL:PT1H
BEGIN:VTIMEZONE
TZID:Asia/Krasnoyarsk
BEGIN:STANDARD
TZOFFSETFROM:+0700
TZOFFSETTO:+0700
TZNAME:+07
DTSTART:20240101T000000
END:STANDARD
END:VTIMEZONE
BEGIN:VEVENT
DTSTART;VALUE=DATE:20240919
DTEND;VALUE=DATE:20250127
DTSTAMP:20260420T121413
CREATED:20241218T014955Z
LAST-MODIFIED:20241218T014955Z
UID:5142-1726704000-1737935999@kulturalindonesia.id
SUMMARY:SEABAD SADALI
DESCRIPTION:Salam budaya Sahabat Kultural. Sudah punya rencana mengisi liburan akhir tahun ? \nKultural punya beberapa ide pameran seni rupa untuk dinikmati bersama keluarga atau sahabat bahkan sendirian di Jakarta\, Bandung dan Bali. Selamat Natal dan Tahun Baru 2025 ya.
URL:https://kulturalindonesia.id/event/seabad-sadali/
LOCATION:Selasar Sunaryo Art Space\, Jl. Bukit Pakar Timur no. 100\, Bandung\, Indonesia
ATTACH;FMTTYPE=image/jpeg:https://kulturalindonesia.id/wp-content/uploads/2024/12/IMG-20241218-WA0114.jpg
END:VEVENT
BEGIN:VEVENT
DTSTART;VALUE=DATE:20241122
DTEND;VALUE=DATE:20241223
DTSTAMP:20260420T121413
CREATED:20241218T015226Z
LAST-MODIFIED:20241218T015226Z
UID:5144-1732233600-1734911999@kulturalindonesia.id
SUMMARY:THE PLAYGROUND
DESCRIPTION:Salam budaya Sahabat Kultural. Sudah punya rencana mengisi liburan akhir tahun ? \nKultural punya beberapa ide pameran seni rupa untuk dinikmati bersama keluarga atau sahabat bahkan sendirian di Jakarta\, Bandung dan Bali. Selamat Natal dan Tahun Baru 2025 ya.
URL:https://kulturalindonesia.id/event/the-playground/
LOCATION:Ruang Dini\, Jl. Anggrek no. 46\, Cihapit\, Bandung\, Indonesia
ATTACH;FMTTYPE=image/jpeg:https://kulturalindonesia.id/wp-content/uploads/2024/12/IMG-20241218-WA0115.jpg
END:VEVENT
BEGIN:VEVENT
DTSTART;VALUE=DATE:20241203
DTEND;VALUE=DATE:20250127
DTSTAMP:20260420T121413
CREATED:20241218T013954Z
LAST-MODIFIED:20241218T013954Z
UID:5131-1733184000-1737935999@kulturalindonesia.id
SUMMARY:KALENDER BUDAYA DESEMBER 2024
DESCRIPTION:Salam budaya Sahabat Kultural. Sudah punya rencana mengisi liburan akhir tahun ? \nKultural punya beberapa ide pameran seni rupa untuk dinikmati bersama keluarga atau sahabat bahkan sendirian di Jakarta\, Bandung dan Bali. Selamat Natal dan Tahun Baru 2025 ya. \n 
URL:https://kulturalindonesia.id/event/kalender-budaya-desember-2024/
LOCATION:Jawa Barat
ATTACH;FMTTYPE=image/jpeg:https://kulturalindonesia.id/wp-content/uploads/2024/12/IMG-20241218-WA0111.jpg
END:VEVENT
BEGIN:VEVENT
DTSTART;VALUE=DATE:20241203
DTEND;VALUE=DATE:20241229
DTSTAMP:20260420T121413
CREATED:20241218T014526Z
LAST-MODIFIED:20241218T014526Z
UID:5136-1733184000-1735430399@kulturalindonesia.id
SUMMARY:MANUSIA SUNGAI
DESCRIPTION:Salam budaya Sahabat Kultural. Sudah punya rencana mengisi liburan akhir tahun ? \nKultural punya beberapa ide pameran seni rupa untuk dinikmati bersama keluarga atau sahabat bahkan sendirian di Jakarta\, Bandung dan Bali. Selamat Natal dan Tahun Baru 2025 ya.
URL:https://kulturalindonesia.id/event/manusia-sungai/
LOCATION:NADI Gallery\, Jl. Kembang Indah III blok G3 no 4-5\, Puri Indah\, Jakarta Barat\, Indonesia
END:VEVENT
BEGIN:VEVENT
DTSTART;VALUE=DATE:20241210
DTEND;VALUE=DATE:20250109
DTSTAMP:20260420T121413
CREATED:20241218T014229Z
LAST-MODIFIED:20241218T014229Z
UID:5133-1733788800-1736380799@kulturalindonesia.id
SUMMARY:INTERWOVEN REALITIES
DESCRIPTION:Salam budaya Sahabat Kultural. Sudah punya rencana mengisi liburan akhir tahun ? \nKultural punya beberapa ide pameran seni rupa untuk dinikmati bersama keluarga atau sahabat bahkan sendirian di Jakarta\, Bandung dan Bali. Selamat Natal dan Tahun Baru 2025 ya.
URL:https://kulturalindonesia.id/event/interwoven-realities/
LOCATION:SIKA Gallery\, JL. Raya Campuhan\, Sayan\, Ubud\, Gianyar Bali\, Indonesia
ATTACH;FMTTYPE=image/jpeg:https://kulturalindonesia.id/wp-content/uploads/2024/12/IMG-20241216-WA0013.jpg
END:VEVENT
BEGIN:VEVENT
DTSTART;VALUE=DATE:20241214
DTEND;VALUE=DATE:20250106
DTSTAMP:20260420T121413
CREATED:20241218T014804Z
LAST-MODIFIED:20241218T014804Z
UID:5139-1734134400-1736121599@kulturalindonesia.id
SUMMARY:METAMORPHOSIS
DESCRIPTION:Salam budaya Sahabat Kultural. Sudah punya rencana mengisi liburan akhir tahun ? \nKultural punya beberapa ide pameran seni rupa untuk dinikmati bersama keluarga atau sahabat bahkan sendirian di Jakarta\, Bandung dan Bali. Selamat Natal dan Tahun Baru 2025 ya.
URL:https://kulturalindonesia.id/event/metamorphosis/
LOCATION:Market Hall – Indonesian Design District\, Pantai Indah Kapuk 2\, Jakarta\, Indonesia
ATTACH;FMTTYPE=image/jpeg:https://kulturalindonesia.id/wp-content/uploads/2024/12/IMG-20241218-WA0112.jpg
END:VEVENT
END:VCALENDAR